BEGIN:VCALENDAR
VERSION:2.0
PRODID:-//wp-events-plugin.com//7.2.3.1//EN
TZID:Europe/London
X-WR-TIMEZONE:Europe/London
BEGIN:VEVENT
UID:1693@anukampaproject.org
DTSTART;TZID=Europe/London:20210325T083000
DTEND;TZID=Europe/London:20210325T170000
DTSTAMP:20210321T094916Z
URL:https://anukampaproject.org/events/waiting-list-for-ajahn-brahm-ven-ca
 nda-online-retreat-the-calm-in-the-eye-of-the-storm/
SUMMARY:Waiting List for Ajahn Brahm & Ven Canda Online Retreat: "The Calm
 In The Eye Of The Storm"
DESCRIPTION:** WAITING LIST IN OPERATION **\n&nbsp\;\n\nIn this day retreat
 organised by Anukampa\, Ajahn Brahm shows us how we can build a reservoir
 of freedom and peace within\, even when everything is chaos on the outside.
 Ven Canda will also offer reflections\, meditation instructions and further
 exploration of the theme\, in her afternoon\n\n\n\nsessions.\n\nThe day
 will be filled with warmth\, humour and practical tips for developing the
 mind\, using personal anecdotes and teachings from the Buddhist
 texts.\n\n&nbsp\;\n\nThe rough outline of the retreat is as follows: GMT/UK
 Time\n\n&nbsp\;\n\n08:30 - 10:00 am Dhamma Talk and Meditation with Ajahn
 Brahm\n10:00 - 10:30 am Walking Meditation\n12:30 - 02:00 pm Guided
 Meditation and Q&amp\;A with Ajahn Brahm\n02:00 - 02:30 pm Walking
 meditation\n02:30 - 03:00 pm Silent meditation with Ven Canda\n03:00 -
 03:15 pm Tea Break\n03:15 - 04:30 pm Dhamma Talk and Q&amp\;A with Ven
 Canda\n04:30 - 05:00 pm Guided Metta Meditation with Ven Canda and closing
 words\n\n&nbsp\;\n\nPlease note that this retreat is strictly for those in
 the British/European time zone only (or the east coast of the US if you are
 willing to adopt forest monastery time and rise early!). Please do not
 apply from other time zones\, as places are very limited. Instead\, you can
 watch via our Facebook live-stream.\n\n&nbsp\;\n\nCheck the retreat
 schedule against your time zone here.\n\n&nbsp\;\n\nFull time attendance
 – including the personal practice period – is necessary for this
 retreat\, so you can experience the full potential of the
 practice.\n\n&nbsp\;\n\n&nbsp\;\n\nThere will be a small registration fee
 to cover organisational costs and contribute towards the rental of our
 current Bhikkhuni Residence in Oxford. If you are unable to afford this\,
 please contact us at bookings@anukampaproject.org and we do our best to
 assist you\, using our bursary fund.\n\n&nbsp\;\n\nIn the early Buddhist
 tradition of generosity\, the teachings are offered freely and monastic
 teachers do not receive any monetary remuneration. We gratefully welcome
 donations of any amount\, to Anukampa Bhikkhuni Project. Your generosity
 helps us achieve our dual charitable aims which are:\n\n&nbsp\;\n\n1. To
 continue promoting the teachings and practices of Early Buddhism\n2. To
 establish a permanent "Forest Monastery" for Ven Canda to reside in and
 train women seeking full ordination\, and where lay and monastic guests can
 both visit and stay.\n\n&nbsp\;\n\nIf you are a UK taxpayer\, your donation
 is eligible for Gift Aid. All donations can be made at
 http://www.anukampaproject.org/donate.\n\n&nbsp\;\n\nThank you very much
 for your support.\n\n&nbsp\;\n\n&nbsp\;\nPlease note that the registration
 fee is NON REFUNDABLE.\n&nbsp\;
CATEGORIES:2021
END:VEVENT
BEGIN:VTIMEZONE
TZID:Europe/London
X-LIC-LOCATION:Europe/London
BEGIN:STANDARD
DTSTART:20201025T010000
TZOFFSETFROM:+0100
TZOFFSETTO:+0000
TZNAME:GMT
END:STANDARD
END:VTIMEZONE
END:VCALENDAR