BEGIN:VCALENDAR
VERSION:2.0
PRODID:-//wp-events-plugin.com//7.2.3.1//EN
TZID:Europe/London
X-WR-TIMEZONE:Europe/London
BEGIN:VEVENT
UID:90@anukampaproject.org
DTSTART:20190518T190000Z
DTEND:20190518T210000Z
DTSTAMP:20191023T175134Z
URL:https://anukampaproject.org/events/vc190518/
SUMMARY:Award Winning Film Screening: "Bhikkhunī – Buddhism\, Sri
 Lanka\, Revolution"
DESCRIPTION:\n“Bhikkhunī – Buddhism\, Sri Lanka\, Revolution” is a
 documentary film about the revival of women’s ordination in Theravāda
 Buddhism. We are delighted to present a public screening\, along with a
 guided meditation and a Q&amp\;A session with Venerable
 Canda.\n\n\n&nbsp\;\n\nShortly after Enlightenment\, the Buddha said: “I
 shall not come to my final passing away\, until my bhikkhus and
 bhikkhunis\, laymen and laywomen\, have come to be true disciples… ”
 Even though the Buddha established the bhikkhunī order\, the line of
 female ordination in the Theravāda tradition died out in the
 11th Century. Since then\, it is a common belief that nuns can no longer
 be ordained.\n\n&nbsp\;\n\nThe documentary presents the story of women
 who\, in order to implement the Buddha’s teachings\, however against the
 opinion of many monks\, have become bhikkhunīs – fully ordained
 nuns in the Theravāda tradition. The film’s protagonists
 are Bhikkhunī Kusuma from Sri Lanka (ordained in 1996 in
 India)\, Bhikkhunī Dhammananda from Thailand (ordained in 2003 in Sri
 Lanka) and Bhikkhunī Gautami from Bangladesh (ordained in 2016 in Sri
 Lanka) – the first women in their countries’ modern history to take
 full ordination.\n\n&nbsp\;\n\n\n\nThis event will be held in the Workshop
 Room in Kagyu Samye Dzong London\, for fifty people. Please arrive at
 6.40pm\, to start promptly at 7pm.\n\n&nbsp\;\n\nProceeds from the evening
 will help meet the rental costs of Anukampa Bhikkhuni
 Residence. \n\n \n\n&nbsp\;\n\n&nbsp\;\n\nYou can read more about this
 film\, by Małgorzata Dobrowolska\,
 at https://bhikkhuni-film.com\n\n&nbsp\;\n\n&nbsp\;\n\nWe kindly ask that
 you do not contact the venue.\n\n&nbsp\;\n\nNote:\n\n&nbsp\;\n\n1. After
 your registration\, you will receive an email with your Ticket Reference
 number within a couple of minutes. Please check your junk mail box if you
 do not receive it. You can also add our email address
 bookings@anukampaproject.org as a contact to prevent emails from us going
 into the junk folder.\n\n&nbsp\;\n\n2. If you do not receive your ticket
 within an hour\, please email us.\n\n&nbsp\;\n\nPLEASE NOTE THIS BOOKING IS
 NOT REFUNDABLE.\n\n&nbsp\;
ATTACH;FMTTYPE=image/jpeg:https://anukampaproject.org/wp-content/uploads/2
 019/03/film.jpg
CATEGORIES:2019 Tour
LOCATION:\, \, 
GEO:51.495682;-0.074503
X-APPLE-STRUCTURED-LOCATION;VALUE=URI;X-ADDRESS=\,
 ;X-APPLE-RADIUS=100;X-TITLE=:geo:51.495682,-0.074503
END:VEVENT
END:VCALENDAR