BEGIN:VCALENDAR
VERSION:2.0
PRODID:-//wp-events-plugin.com//7.2.3.1//EN
TZID:Europe/London
X-WR-TIMEZONE:Europe/London
BEGIN:VEVENT
UID:1786@anukampaproject.org
DTSTART;TZID=Europe/London:20260307T083000
DTEND;TZID=Europe/London:20260308T170000
DTSTAMP:20260306T025722Z
URL:https://anukampaproject.org/events/online-weekend-retreat-with-ven-can
 da-raising-our-happiness-levels/
SUMMARY:Online Weekend Retreat with Ven. Canda: "Raising Our Happiness
 Levels"
DESCRIPTION:In early Buddhism\, happiness is not a distraction but an
 essential cause for successful meditation. The Buddha repeatedly emphasised
 that wholesome happiness supports the mind in settling\, unifying and
 deepening into samādhi (stillness). Through Dhamma reflection\, guided
 meditation and discussion with Ajahn Canda\, we will explore different
 forms of happiness described in the early texts\, including pīti
 (rapture)\, sukha (ease) and the joy of letting go. These qualities are
 central to the development of the jhānas ~ the "pleasant abidings here and
 now."\n\nOver the weekend\, we’ll learn how reflecting on our inner
 virtues and developing gratitude for the small things in life can give rise
 to wholesome happiness that supports a calm\, joyful and sustainable
 meditation practice\, gradually undermining craving\, aversion and
 delusion. Rather than chasing fleeting pleasure\, together we’ll gently
 create the conditions for a happiness that is stable\, inwardly grounded
 and leads to liberation.\n\nAs this is an online home-retreat\, you may
 choose whether you wish to observe the Eight Precepts or the Five
 Precepts.\n\nTentative Schedule (UK Time):\nSaturday 7th March:\n08:30 –
 10:00 Dhamma talk\, guided meditation\n10:00 – 12:00 Cooking and
 lunchtime for those on 8 precepts offline\n12:00 – 14:30 Rest and
 personal practice offline\n14:30 – 15:15 Guided meditation \n15:15 –
 15:45 Walking meditation\n16:00 – 17:00  Sutta discussion\n17:00 –
 19:00 Personal practice offline \n19:00 – 19:50 Metta chanting and
 silent group meditation\n20:00 – 21:00 Q&amp\;A \n\nSunday 8th
 March:\n06:00 – 07:00 Recommended morning meditation\, offline\n08:30 –
 10:00 Dhamma talk\, guided meditation \n10:00 – 12:00 Cooking and
 lunchtime for those on 8 precepts offline\n12:30 – 14:30 Rest and
 personal practice offline\n14:30 – 15:15 Guided meditation\n15:30 –
 16:30 Q&amp\;A and small discussion groups\n16:30 – 17:00 Closing &amp\;
 Metta meditation\n\n*Full time attendance – including the personal
 practice period – is advisable for this retreat\, so you can experience
 the full potential of the practice and participate in creating a conducive
 community space. Due to the time zone\, it will therefore work best for
 people in the UK and Europe (or the east coast of the US if you are willing
 to adopt forest monastery time and rise early!) If most of the online
 schedule will not work for you\, we kindly ask that you leave the space for
 someone else and instead watch the recordings once we upload them to our
 YouTube channel.\n\nPlease check the retreat schedule against your time
 zone here.\n\nHow To Have A Home Retreat\nPracticing in an online retreat
 can be a very rewarding experience. Unlike simply watching online
 teachings  on your own\, you become part of a mutually supportive
 spiritual community. An online retreat also differs from an in-person
 retreat\, by giving you the opportunity to carve out a tailor-made space
 for yourself\, (at home or in a place of your choice)\, where you can
 dedicate yourself to silent practice without the usual distractions and
 disturbances\, and gain confidence in your ability to practice wherever you
 are.\n\nTo support yourself in this process\, Noble Silence is encouraged
 throughout the retreat. This means remaining in silence as much as possible
 and abstaining from the use of electronic devices\, especially mobile
 phones!  It is also important to attend all or most of the online sessions
 so you can receive proper teacher guidance.\n\nTo help you decide whether
 this format would suit you\, we offer some thoughts about the benefits of
 an online retreat and consider some of the potential challenges – as well
 as possible solutions – so you can make fruitful use of your
 time.\nBenefits:\n- Continuity of practice which helps you gain more
 benefit from meditation\n- Safety\, intimacy and support of an enclosed
 group\n- Opportunity for personal guidance through questions to the
 teachers\n- Increased confidence in your ability to practice wherever you
 are\n- The food that suits your tummy ~ and no one snoring in your
 dorm!\nChallenges and solutions:\nIf you are living alone you have a
 ready-made hermitage! Turn off your phone\, put on the vacation responder
 and do your weekly shop in advance. Use ear plugs if it is especially noisy
 and take a walk in a peaceful park at the quietest times of day. This will
 help you immensely in observing Noble Silence and cultivating sense
 restraint\, which inclines the mind toward inner happiness and facilitates
 quietening the mind.\n\nFor those who do not live alone\, home retreats may
 pose the challenge being around family members\, friends or lodgers who are
 not on retreat! In this case\, you may need to put a few extra measures in
 place to enable you to observe Noble Silence and maintain your inner focus.
 Perhaps consider asking them to support you on retreat by keeping
 interactions to an absolute minimum and having a note system for any
 absolutely necessary communication. Maybe someone kind could offer to cook
 your favourite food and leave your meals outside your door\, or you could
 arrange times to use the kitchen alone? If you have children or teens it
 might be difficult to keep the noise down\, so you could consider booking
 into a quiet hotel or apartment and tune in to the sessions from
 there.\nJoining from the same household\nIf more than one person from the
 same household wishes to join the retreat\, please make separate bookings
 and log in from separate computers. This ensures our numbers are manageable
 for the Q&amp\;A sessions and enables you to practice as though
 alone.\n\n\nRegistration Fees\nThe retreat teachings are offered on a
 donation basis to make the Dhamma accessible to all. Our volunteers have
 generously organised this in their own free time and neither they nor the
 two teachers receive any remuneration. To honour the wisdom\, time and
 commitment of our teachers\, you will be invited to offer donations at the
 end of the retreat. Your donations will help us support the running costs
 of our new Anukampa Grove\, which will be the physical hub of our community
 and a haven of peace\, and provide for the monastics requisites. Please
 give with a heart of generosity and joy\, whilst respecting your own
 personal financial situation.\n\nThe registration fee ensures your
 commitment to attending the retreat\, as we generally experience a 25%
 no-show rate to online events. When this happens others may lose a
 potentially life changing opportunity to practice. The registration fee
 contributes towards our admin and the running expenses of Anukampa Grove.
 If you are unable to afford this\, please contact us. Alternatively\, you
 can listen to the teachings later on our YouTube channel.\n\nPlease note
 that the registration fee is NON REFUNDABLE.\n\nNote:\n\n1. After your
 registration\, you will receive an email with your Ticket/Booking
 Confirmation almost immediately. Please check your junk mail box if you do
 not receive it. You can also add our email address
 bookings@anukampaproject.org as a contact to prevent emails from us going
 into the junk folder.\n\n2. If you do not receive your ticket within an
 hour\, please contact us at bookings@anukampaproject.org. Please be aware
 that emails that we send to non-Gmail\, Hotmail or Outlook email account
 outside the UK (e.g. .pl\; .gmx etc)\, are often rejected as 'undelivered'
 for unknown reasons. Please therefore contact us from a Gmail\, Hotmail or
 Outlook email account where at all possible\, to save
 disappointment.\n\n&nbsp\;
ATTACH;FMTTYPE=image/jpeg:https://anukampaproject.org/wp-content/uploads/2
 024/09/Ven-Canda.jpg
CATEGORIES:2026
END:VEVENT
BEGIN:VTIMEZONE
TZID:Europe/London
X-LIC-LOCATION:Europe/London
BEGIN:STANDARD
DTSTART:20251026T010000
TZOFFSETFROM:+0100
TZOFFSETTO:+0000
TZNAME:GMT
END:STANDARD
END:VTIMEZONE
END:VCALENDAR