BEGIN:VCALENDAR
VERSION:2.0
PRODID:-//wp-events-plugin.com//7.2.3.1//EN
TZID:Europe/London
X-WR-TIMEZONE:Europe/London
BEGIN:VEVENT
UID:1705@anukampaproject.org
DTSTART;TZID=Europe/London:20210410T123000
DTEND;TZID=Europe/London:20210410T143000
DTSTAMP:20211104T035606Z
URL:https://anukampaproject.org/events/hard-questions-to-a-soft-teacher-pa
 rt-3-with-ajahn-brahm/
SUMMARY:Hard Questions To A Soft Teacher ~ Part 3 ~ With Ajahn Brahm
DESCRIPTION:&nbsp\;\n\n&nbsp\;\n\nBring your burning questions on deep
 Dhamma to this Q&amp\;A session where Ajahn will unreservedly share his
 wisdom. There is a maximum capacity for 100 to join via zoom\, so do arrive
 early. If we are full\, you can watch us live via Anukampa Bhikkhuni
 Project's Facebook page instead.\n\n&nbsp\;\n\nThe session will start with
 a brief introduction and Dhamma Reflection\, followed by Q&amp\;A\, a short
 meditation in the middle and further Q&amp\;A in the second
 half.\n\n&nbsp\;\n\nN.B This event does not require registration\, but you
 will need to be signed in to your personal zoom account to access the
 meeting. Aim to arrive 15 minutes early and refer to our easy access
 guidelines here.\n\n&nbsp\;\n\n~For security reasons please do not share
 links on social media.\n\n&nbsp\;
CATEGORIES:2021
END:VEVENT
BEGIN:VTIMEZONE
TZID:Europe/London
X-LIC-LOCATION:Europe/London
BEGIN:DAYLIGHT
DTSTART:20210328T020000
TZOFFSETFROM:+0000
TZOFFSETTO:+0100
TZNAME:BST
END:DAYLIGHT
END:VTIMEZONE
END:VCALENDAR