BEGIN:VCALENDAR
VERSION:2.0
PRODID:-//wp-events-plugin.com//7.2.3.1//EN
TZID:Europe/London
X-WR-TIMEZONE:Europe/London
BEGIN:VEVENT
UID:1704@anukampaproject.org
DTSTART:20211031T123000Z
DTEND:20211031T153000Z
DTSTAMP:20221129T101528Z
URL:https://anukampaproject.org/events/anukampa-end-of-rains-mini-kathina-
 celebration-with-ajahn-brahm-ven-canda/
SUMMARY:Anukampa End Of Rains ("Mini Kathina") Celebration With Ajahn Brahm
 & Ven Canda
DESCRIPTION:\n\nTentative Schedule:\n\n12:30 - 13:15 Dhamma Talk by Ajahn
 Brahm\n13:20 - 14:00 Guided Meditation by Ajahn Brahm\n14:00 - 14:15 Tea
 Break\n14:15 - 15:00 Q&amp\;A and discussion with Ven Canda\n15:00 -
 15:30pm Guided Metta Meditation &amp\; Blessing by Ven
 Canda\n\nRegistration is free and will open a few days before the event.
 Watch this space or sign up to our newsletter.\n\n&nbsp\;
ATTACH;FMTTYPE=image/jpeg:https://anukampaproject.org/wp-content/uploads/2
 020/10/20190717_154924-1.jpg
CATEGORIES:2021
END:VEVENT
END:VCALENDAR