BEGIN:VCALENDAR
VERSION:2.0
PRODID:-//wp-events-plugin.com//7.2.3.1//EN
TZID:Europe/London
X-WR-TIMEZONE:Europe/London
BEGIN:VEVENT
UID:1771@anukampaproject.org
DTSTART;TZID=Europe/London:20251121T191500
DTEND;TZID=Europe/London:20251121T210000
DTSTAMP:20251120T040924Z
URL:https://anukampaproject.org/events/ajahn-brahms-dhamma-talk-rejoicing-
 in-goodness/
SUMMARY:Ajahn Brahm's Dhamma Talk: "Rejoicing in Goodness"
DESCRIPTION:In this Dhamma talk\, Ajahn Brahm reveals that how we relate to
 joy and happiness is no ordinary matter. We might overlook the good times\,
 perhaps not fully experiencing them or failing to allow ourselves to really
 enjoy them. What's more\, we may cling to feelings of delight in ways that
 create suffering both in the present and future. How can we cultivate
 pleasant feelings\, pay wise attention to them and allow them to pass in
 ways that uplift the mind?\n\nThis evening programme will begin with a
 short guided meditation\, followed by a Dhamma talk from Ajahn Brahm. After
 the talk there will be an opportunity to ask questions.\n\nPlease arrive
 half an hour before the starting time at 6:45 pm in order to register and
 settle in quietly.\n\nWe kindly ask that you do not contact the
 venue.\n\nHealth and community care: Please do not attend if you feel ill
 (e.g. if you have any symptoms of Covid or any other viral
 infections).\n\n&nbsp\;\n\nNote:\n\n1. After your registration\, you will
 receive an email with your Ticket/Booking Confirmation almost immediately.
 Please check your junk mail box if you do not receive it. You can also add
 our email address bookings@anukampaproject.org as a contact to prevent
 emails from us going into the junk folder.\n\n2. If you do not receive your
 ticket within an hour\, please contact us at bookings@anukampaproject.org.
 Please be aware that emails that we send to non-Gmail\, Hotmail or Outlook
 email account outside the UK (e.g. .pl\; .gmx etc)\, are often rejected as
 'undelivered' for unknown reasons. Please therefore contact us from a
 Gmail\, Hotmail or Outlook email account where at all possible\, to save
 disappointment.\n\n&nbsp\;\n\nPLEASE NOTE THIS BOOKING IS NOT
 REFUNDABLE.\nAll ticket proceeds go toward covering venue hire and other
 arrangements. Any excess will go toward general running cost of Britain's
 first monastery for women\, Anukampa Grove Bhikkhuni
 Monastery.\n&nbsp\;\n\n~ IMPORTANT !! ~  To ensure you see our most
 up-to-date page and bookings availability\, YOU MUST REFRESH your browser
 by pressing F5 OR click the ↺ reload sign on the address bar.\n\n&nbsp\;
ATTACH;FMTTYPE=image/jpeg:https://anukampaproject.org/wp-content/uploads/2
 023/03/Banner-size-Oxford-Quakers-Meeting-House.jpg
CATEGORIES:2025
LOCATION:Oxford Quakers Friends Meeting House\, 43 St Giles'\, Oxford\,
 Oxfordshire\, OX1 3LW\, United Kingdom
X-APPLE-STRUCTURED-LOCATION;VALUE=URI;X-ADDRESS=43 St Giles'\, Oxford\,
 Oxfordshire\, OX1 3LW\, United Kingdom;X-APPLE-RADIUS=100;X-TITLE=Oxford
 Quakers Friends Meeting House:geo:0,0
END:VEVENT
BEGIN:VTIMEZONE
TZID:Europe/London
X-LIC-LOCATION:Europe/London
BEGIN:STANDARD
DTSTART:20251026T010000
TZOFFSETFROM:+0100
TZOFFSETTO:+0000
TZNAME:GMT
END:STANDARD
END:VTIMEZONE
END:VCALENDAR