BEGIN:VCALENDAR
VERSION:2.0
PRODID:-//wp-events-plugin.com//7.2.3.1//EN
TZID:Europe/London
X-WR-TIMEZONE:Europe/London
BEGIN:VEVENT
UID:1776@anukampaproject.org
DTSTART;TZID=Europe/London:20251119T190000
DTEND;TZID=Europe/London:20251119T203000
DTSTAMP:20251219T103712Z
URL:https://anukampaproject.org/events/ajahn-brahms-dhamma-talk-forgiving-
 ourselves-with-compassion/
SUMMARY:Ajahn Brahm's Dhamma Talk: "Forgiving Ourselves With Compassion"
DESCRIPTION:&nbsp\;\n\n&nbsp\;\n\nForgiveness is very important in our
 personal lives. When we believe we've done wrong\, this manifests as
 feelings of remorse\; and when others have wronged us\, it often leads to
 blame and discord. In this Dhamma talk\, Venerable Ajahn Brahm elaborates
 on how a lack of forgiveness keeps us stuck and limits our perspectives.
 From a place of profound wisdom\, he shines a light on inner forgiveness\,
 its deep connection to our sense of self\, and how beautifully it leads to
 letting go.\n\nPlease arrive half an hour before the starting time\, at
 6:30 pm\, in order to register and settle in quietly.\n\nHealth and
 community care: Please do not attend if you feel ill (e.g. if you have any
 symptoms of Covid or any other viral infections).\n\nWheelchair access info
 here.\n\n&nbsp\;\n\n&nbsp\;\n\n&nbsp\;\n\nNote: \n\n1. After your
 registration\, you will receive an email with your Ticket/Booking
 Confirmation almost immediately. Please check your junk mail box if you do
 not receive it. You can also add our email address
 bookings@anukampaproject.org as a contact to prevent emails from us going
 into the junk folder.\n\n2. If you do not receive your ticket within an
 hour\, please contact us at bookings@anukampaproject.org. Please be aware
 that emails that we send to non-Gmail\, Hotmail or Outlook email account
 outside the UK (e.g. .pl\; .gmx etc)\, are often rejected as 'undelivered'
 for unknown reasons. Please therefore contact us from a Gmail\, Hotmail or
 Outlook email account where at all possible\, to save
 disappointment.\n\n&nbsp\;\n\nPLEASE NOTE THIS BOOKING IS NOT
 REFUNDABLE.\nAll ticket proceeds go toward covering venue hire and other
 arrangements. Any excess will go toward general running cost of Britain's
 first monastery for women "Anukampa Grove Bhikkhuni
 Monastery." \n&nbsp\;\n\n~ IMPORTANT !! ~  To ensure you see our most
 up-to-date page and bookings availability\, YOU MUST REFRESH your browser
 by pressing F5 OR click the ↺ reload sign on the address bar.\n\n&nbsp\;
ATTACH;FMTTYPE=image/jpeg:https://anukampaproject.org/wp-content/uploads/2
 025/05/Channing-Hall.jpg
CATEGORIES:2025
LOCATION:Channing Hall\, 45 Surrey Street\, Sheffield City Centre\,
 Sheffield\, S1 2LG\, United Kingdom
X-APPLE-STRUCTURED-LOCATION;VALUE=URI;X-ADDRESS=45 Surrey Street\,
 Sheffield City Centre\, Sheffield\, S1 2LG\, United
 Kingdom;X-APPLE-RADIUS=100;X-TITLE=Channing Hall:geo:0,0
END:VEVENT
BEGIN:VTIMEZONE
TZID:Europe/London
X-LIC-LOCATION:Europe/London
BEGIN:STANDARD
DTSTART:20251026T010000
TZOFFSETFROM:+0100
TZOFFSETTO:+0000
TZNAME:GMT
END:STANDARD
END:VTIMEZONE
END:VCALENDAR