BEGIN:VCALENDAR
VERSION:2.0
PRODID:-//wp-events-plugin.com//7.2.3.1//EN
TZID:Europe/London
X-WR-TIMEZONE:Europe/London
BEGIN:VEVENT
UID:1758@anukampaproject.org
DTSTART;TZID=Europe/London:20250628T093000
DTEND;TZID=Europe/London:20250629T173000
DTSTAMP:20250628T061254Z
URL:https://anukampaproject.org/events/ajahn-brahms-2-day-non-residential-
 retreat-compassionately-mindful/
SUMMARY:Ajahn Brahm's 2-Day Non-Residential Retreat: “Compassionately
 Mindful”
DESCRIPTION:How can we cultivate a deeper sense of mindfulness and
 compassion in our everyday lives?\n\nHow can these practices lead to
 greater emotional resilience and inner peace? Immerse yourself in a
 transformative weekend retreat with Ajahn Brahm. Set against the serene
 backdrop of Oxford\, this retreat offers a unique opportunity to deepen
 your mindfulness practice through the lens of compassion.\n\nThis retreat
 will help you develop the ability to be present in each moment with
 kindness and understanding\, allowing you to navigate life's challenges
 with greater ease and grace. You will discover practical tools to integrate
 mindfulness and compassion into your daily routine\, enhancing your
 well-being and fostering a sense of inner peace.\n\nThe weekend will
 include Dhamma reflections\, Q&amp\;A sessions\, periods of seated and
 walking meditation\, and lots of laughter! Ajahn Brahm’s unique blend of
 humour and wisdom ensures that the teachings are both enlightening and
 enjoyable.\n\nWhether you are new to meditation or have years of
 experience\, this retreat will provide you with valuable insights and
 practices to deepen your understanding and experience of compassionate
 mindfulness. Embrace the opportunity to brighten your mind and cultivate a
 heart of compassion.\n\n&nbsp\;\nLocation and Practical Details\nLocated in
 the tranquil Iffley Village within Oxford and just ten minutes’ drive
 from Oxford city centre\, lies the Mercure Oxford Hawkwell House Hotel. Set
 among three acres of private gardens\, this is the perfect setting to enjoy
 a quiet time of retreat in one of the UK’s most historical cities. The
 beautiful River Thames tow path is ten minutes walk away through the pretty
 Iffley village - ideal for walking meditation or to simply watch the river
 flow by!\n\nFor this retreat we have full use of the main conference hall\,
 seating up to 150 participants. Tea (served twice a day) and a lunch of
 deluxe sandwiches &amp\; salad is included in your booking. Gluten free and
 vegan options will be available.\n\nChairs will be available for
 meditation. Please kindly bring your own meditation mat with a cushion if
 you prefer to sit on the floor\, as we will not be able to provide
 mats.\n\n&nbsp\;\n\nThis is a non-residential retreat (without
 accommodation included)\; however\, you may wish to book a room at the same
 Hotel by directly contacting them (of course\, after you have received your
 final booking confirmation for the retreat). Alternately\, there are many
 other hotels nearby and in Oxford city centre.\n\n&nbsp\;\nTentative
 Retreat Schedule\nSaturday 28th June:\n\n09:00 Arriving\, Settling in
 &amp\; Tea\n09:30 - 11:15 Dhamma Talk &amp\; Guided Meditation (Ajahn
 Brahm)\n11:15 - 11:45 Walking Meditation\n12:00 - 13:30 Lunch break (food
 served in the dining room at the Hotel - see event description
 above)\n13:30 - 14:15 Sutta Class (Ajahn Brahm and/or Ven Canda)\n14:30 -
 15:15 Guided Meditation (Ajahn Brahm and/or Ven Canda)\n15:15 - 15:40
 Walking Meditation\n15:40 - 16:10 Silent Meditation\n16:10 - 16:30 Tea
 Break\n16:30 - 17:15 Q&amp\;A Session (Ajahn Brahm)\n17:15 - 17:45 Silent
 Meditation &amp\; Blessing\, Departures by 18:00\n\n&nbsp\;\n\nSunday 29th
 June:\n\n09:00 Arriving\, Settling in &amp\; Tea\n09:30 - 11:15 Dhamma Talk
 &amp\; Guided Meditation (Ajahn Brahm)\n11:15 - 11:45 Walking
 Meditation\n12:00 - 13:30 Lunch break (food served in the dining room at
 the Hotel - see event description above)\n13:30 - 14:15 Sutta Class (Ajahn
 Brahm and/or Ven Canda)\n14:30 - 15:15 Guided Meditation (Ajahn Brahm
 and/or Ven Canda)\n15:15 - 15:40 Walking Meditation\n15:40 - 16:00 Tea
 Break\n16:00 - 16:45 Q&amp\;A Session (Ajahn Brahm)\n16:45 - 17:15 Metta
 Meditation\n17:15 - 17:45 Discussion on Anukampa Bhikkhuni Project &amp\; 
 Departures by 18:00\n\n&nbsp\;\n\nAjahn Brahm is dedicated to coming to
 England every year to support Anukampa Bhikkhuni Project’s charitable
 aims - of spreading the Dhamma and developing our new monastery\, Anukampa
 Grove. Our monastery gives women an opportunity to train towards full
 bhikkhuni ordination for the first time in UK history and provides a place
 for our warm hearted and diverse community to continue growing. The
 volunteers who organise these retreats give their time freely which keeps
 costs as low as possible. There will be opportunity to donate towards the
 running costs of Anukampa Grove and requisites for the Sangha at the end of
 the retreat.\n\n&nbsp\;\n\nIf you would like to contribute to sponsoring
 accommodation for Ajahn Brahm and Ven Canda\, please donate here\,
 reference: 'monastic costs.'\n\n&nbsp\;\n\nWe may be able to offer some
 financial assistance to those of limited means through our bursary fund\,
 collected entirely through the generosity of others.\n\n&nbsp\;\n\nYou are
 welcome to donate to our bursary fund here.\n\n&nbsp\;\nApplication
 Procedure\nNext steps:\n\n1. Please ensure you read all the above
 information carefully first\, and then fill in the application form
 below. At this stage you will not be required to make a payment.\n\n2.
 After submitting your application form\, within five minutes you should
 receive an email confirming that we have received it. Please check your
 junk mail inbox if you do not receive it. We advise you to add our email
 address bookings@anukampaproject.org as a contact\, to prevent our emails
 going into your junk folder.\n\n3. If you do not receive your ticket within
 an hour\, please contact us at bookings@anukampaproject.org. Please be
 aware that emails that we send to non-Gmail\, Hotmail or Outlook email
 account outside the UK (e.g. .pl\; .gmx etc)\, are often rejected as
 'undelivered' for unknown reasons. Please therefore contact us from a
 Gmail\, Hotmail or Outlook email account where at all possible\, to save
 disappointment.\n\n&nbsp\;\n\nWe aim to approve your application within two
 weeks. If you haven’t heard from us after 2 weeks\, please contact us at:
 bookings@anukampaproject.org.\n\n&nbsp\;\n\nHealth and community care:
 Please do not attend if you feel ill (e.g. if you have any symptoms of
 Covid or any other viral infections).\n\n&nbsp\;\n\nThis registration fee
 is refundable minus £50 BEFORE 28th April 2025.\n\nPlease note that from
 29th April no refund will be given\, unless someone on our waiting list is
 able to take your place. If your ticket can be taken by someone else\, you
 will be refunded minus £50. Whilst we will make every effort to offer your
 ticket on\, we are sorry that this cannot be guaranteed.\n\n&nbsp\;\nAll
 ticket proceeds go toward covering venue hire and other arrangements. Any
 excess will go toward general running cost of Britain's first monastery for
 bhikkhuni\, "Anukampa Grove Bhikkhuni Monastery."\n&nbsp\;\n\n~ IMPORTANT
 !! ~  To ensure you see our most up-to-date page and bookings
 availability\, YOU MUST REFRESH your browser by pressing F5 OR click the
 ↺ reload sign on the address bar.\n\n&nbsp\;\n\nWe are closing the
 headcount for the lunch catering by mid day today\, therefore please settle
 the registration fee immediately. 
ATTACH;FMTTYPE=image/jpeg:https://anukampaproject.org/wp-content/uploads/2
 023/03/Banner-size-Mercure-Oxford-Hawkwell-House.jpg
CATEGORIES:2025
LOCATION:Thames Room\, Mercure Oxford Hawkwell House\, Church Way\, Iffley
 Village\, Oxford\, OX4 4DZ\, United Kingdom
X-APPLE-STRUCTURED-LOCATION;VALUE=URI;X-ADDRESS=Church Way\, Iffley
 Village\, Oxford\, OX4 4DZ\, United
 Kingdom;X-APPLE-RADIUS=100;X-TITLE=Thames Room\, Mercure Oxford Hawkwell
 House:geo:0,0
END:VEVENT
BEGIN:VTIMEZONE
TZID:Europe/London
X-LIC-LOCATION:Europe/London
BEGIN:DAYLIGHT
DTSTART:20250330T020000
TZOFFSETFROM:+0000
TZOFFSETTO:+0100
TZNAME:BST
END:DAYLIGHT
END:VTIMEZONE
END:VCALENDAR