BEGIN:VCALENDAR
VERSION:2.0
PRODID:-//wp-events-plugin.com//7.2.3.1//EN
TZID:Europe/London
X-WR-TIMEZONE:Europe/London
BEGIN:VEVENT
UID:69@anukampaproject.org
DTSTART:20180709T193000Z
DTEND:20180709T213000Z
DTSTAMP:20180710T140558Z
URL:https://anukampaproject.org/events/ajahn-brahmalis-dhamma-talk-finding
 -true-freedom/
SUMMARY:Ajahn Brahmali's Dhamma Talk: "Finding True Freedom"
DESCRIPTION:&nbsp\;\n\n&nbsp\;\n\n&nbsp\;\n\nAjahn Brahmali addresses the
 burning question: what is true freedom and how do we find
 it?\n\n&nbsp\;\n\nThis evening programme begins with a half hour guided
 meditation\, followed by a Dhamma talk. After the talk there will be an
 opportunity to ask your burning questions\, if there are any
 left!\n\n&nbsp\;\n\nPlease aim to arrive at 7pm in order to register and
 settle in quietly.\n\n&nbsp\;\n\n&nbsp\;\n\nWe kindly ask that you do not
 contact the venue.\n\n&nbsp\;\n\nNote:\n\n&nbsp\;\n\n1. After your
 registration\, you will receive an email with your Ticket Reference number
 within a couple of minutes. Please check your junk mail box if you do not
 receive it. You can also add our email address bookings@anukampaproject.org
 as a contact to prevent emails from us going into the junk
 folder.\n\n&nbsp\;\n\n2. If you do not receive your ticket within an hour\,
 please email us.\n\n&nbsp\;\n\n&nbsp\;\n\n&nbsp\;\n\n&nbsp\;
ATTACH;FMTTYPE=image/jpeg:https://anukampaproject.org/wp-content/uploads/2
 018/02/octobergallery.jpg
CATEGORIES:2018 Tour
LOCATION:October Gallery\, 24 Old Gloucester Street\, London\, WC1N 3AL\,
 United Kingdom
GEO:51.5206706;-0.12164050000001225
X-APPLE-STRUCTURED-LOCATION;VALUE=URI;X-ADDRESS=24 Old Gloucester Street\,
 London\, WC1N 3AL\, United Kingdom;X-APPLE-RADIUS=100;X-TITLE=October
 Gallery:geo:51.5206706,-0.12164050000001225
END:VEVENT
END:VCALENDAR