BEGIN:VCALENDAR
VERSION:2.0
PRODID:-//wp-events-plugin.com//7.2.3.1//EN
TZID:Europe/London
X-WR-TIMEZONE:Europe/London
BEGIN:VEVENT
UID:1781@anukampaproject.org
DTSTART;TZID=Europe/London:20260612T184500
DTEND;TZID=Europe/London:20260612T204500
DTSTAMP:20260401T092720Z
URL:https://anukampaproject.org/events/ajahn-brahmali-dhamma-talk-so-you-t
 hink-you-understand-impermanence/
SUMMARY:Ajahn Brahmali Dhamma Talk: "So\, You Think You Understand
 Impermanence...?"
DESCRIPTION:We might think we understand impermanence but usually our
 understanding does not go very deep. We are trapped in perceptions that do
 not reflect reality. Sometimes we underestimate impermanence\, at other
 times we overestimate it. We need to find the middle way and then
 investigate deeply. As we do so\, the most natural yet beautiful truth
 reveals itself!\n\nThis evening programme will begin with a short guided
 meditation\, followed by a Dhamma talk from Ajahn Brahmali. After the talk
 there will be an opportunity to ask questions.\n\nPlease arrive at
 6:15pm in order to register and settle in quietly.\n\nWe kindly ask that
 you do not contact the venue.\n\nHealth and community care: Please do not
 attend if you feel ill (e.g. if you have any symptoms of Covid or any other
 viral infections).\n\nNote:\n\n1. After your registration\, you will
 receive an email with your Ticket/Booking Confirmation almost immediately.
 Please check your junk mail box if you do not receive it. You can also add
 our email address bookings@anukampaproject.org as a contact to prevent
 emails from us going into the junk folder.\n\n2. If you do not receive your
 ticket within an hour\, please contact us at bookings@anukampaproject.org.
 Please be aware that emails that we send to non-Gmail\, Hotmail or Outlook
 email account outside the UK (e.g. .pl\; .gmx etc)\, are often rejected as
 'undelivered' for unknown reasons. Please therefore contact us from a
 Gmail\, Hotmail or Outlook email account where at all possible\, to save
 disappointment.\n\nPLEASE NOTE THIS BOOKING IS NOT REFUNDABLE.\nAll ticket
 proceeds go toward covering venue hire and other arrangements. Any excess
 will go toward general running cost of Britain's first bhikkhuni
 residence\, Anukampa Grove.\n~ IMPORTANT !! ~  To ensure you see our most
 up-to-date page and bookings availability\, YOU MUST REFRESH your browser
 by pressing F5 OR click the ↺ reload sign on the address bar.\n\n&nbsp\;
ATTACH;FMTTYPE=image/jpeg:https://anukampaproject.org/wp-content/uploads/2
 023/03/Banner-size-Oxford-Quakers-Meeting-House.jpg
CATEGORIES:2026
LOCATION:Oxford Quakers Friends Meeting House\, 43 St Giles'\, Oxford\,
 Oxfordshire\, OX1 3LW\, United Kingdom
X-APPLE-STRUCTURED-LOCATION;VALUE=URI;X-ADDRESS=43 St Giles'\, Oxford\,
 Oxfordshire\, OX1 3LW\, United Kingdom;X-APPLE-RADIUS=100;X-TITLE=Oxford
 Quakers Friends Meeting House:geo:0,0
END:VEVENT
BEGIN:VTIMEZONE
TZID:Europe/London
X-LIC-LOCATION:Europe/London
BEGIN:DAYLIGHT
DTSTART:20260329T020000
TZOFFSETFROM:+0000
TZOFFSETTO:+0100
TZNAME:BST
END:DAYLIGHT
END:VTIMEZONE
END:VCALENDAR