BEGIN:VCALENDAR
VERSION:2.0
PRODID:-//wp-events-plugin.com//7.2.3.1//EN
TZID:Europe/London
X-WR-TIMEZONE:Europe/London
BEGIN:VEVENT
UID:1726@anukampaproject.org
DTSTART;TZID=Europe/London:20230524T184500
DTEND;TZID=Europe/London:20230524T203000
DTSTAMP:20230403T162546Z
URL:https://anukampaproject.org/events/ajahn-brahmali-20230524/
SUMMARY:Ajahn Brahmali Dhamma Talk: “The Superpower Of Patience”
DESCRIPTION:&nbsp\;\n\nThe Buddha described patience as the highest
 spiritual quality. But why should we be patient? Shouldn’t we try to get
 out of suffering as fast as possible? However\, the Buddha also described
 the process of awakening (and meditation) as an impersonal process of cause
 and effect. It is in the context of the Buddha’s profound teachings on
 non-self that the true power of patience can be understood. Drawing on the
 teachings of the Buddha as well as his own extensive meditation
 experience\, Ajahn Brahmali will explain how we can harness the power of
 patience to propel us on the Path.\n\nThis evening programme will begin
 with a short guided meditation\, followed by a Dhamma talk by Ajahn
 Brahmali. After the talk there will be an opportunity to ask
 questions.\n\n&nbsp\;\n\n&nbsp\;\n\nPlease aim to arrive at 6:15 pm in
 order to register and settle in quietly.\n\n&nbsp\;\n\nWe kindly ask that
 you do not contact the
 venue.\n\n&nbsp\;\n\n&nbsp\;\n\nNote:\n\n&nbsp\;\n\n1. After your
 registration\, you will receive an email with your Ticket/Booking
 Confirmation almost immediately. Please check your junk mail box if you do
 not receive it. You can also add our email address
 bookings@anukampaproject.org as a contact to prevent emails from us going
 into the junk folder.\n\n&nbsp\;\n\n2. If you do not receive your ticket
 within an hour\, please contact us at bookings@anukampaproject.org. Please
 be aware that emails that we send to non-gmail\, hotmail or outlook email
 account outside the UK (e.g. .pl\; .gmx etc)\, are often rejected as
 'undelivered' for unknown reasons. Please therefore contact us from a
 gmail\, hotmail or outlook email account where at all possible\, to save
 disappointment.\n\n&nbsp\;\n\n&nbsp\;\n\nPLEASE NOTE THIS BOOKING IS NOT
 REFUNDABLE.\n\n&nbsp\;\n\n&nbsp\;\n\n~ IMPORTANT !! ~  To be sure that you
 see our most up to date page\, YOU MUST REFRESH your browser by pressing F5
 OR click the ↺ reload sign on the address bar.\n\n&nbsp\;\n\n&nbsp\;\nAll
 proceeds go toward establishing the UK's first Forest Monastery for women.
ATTACH;FMTTYPE=image/jpeg:https://anukampaproject.org/wp-content/uploads/2
 023/01/UMH-Bristol.jpg
CATEGORIES:2023
LOCATION:Unitarian Meeting Hall\, Brunswick Square/Surrey St\, St Paul's\,
 Bristol\, BS2 8PE\, United Kingdom
X-APPLE-STRUCTURED-LOCATION;VALUE=URI;X-ADDRESS=Brunswick Square/Surrey
 St\, St Paul's\, Bristol\, BS2 8PE\, United
 Kingdom;X-APPLE-RADIUS=100;X-TITLE=Unitarian Meeting Hall:geo:0,0
END:VEVENT
BEGIN:VTIMEZONE
TZID:Europe/London
X-LIC-LOCATION:Europe/London
BEGIN:DAYLIGHT
DTSTART:20230326T020000
TZOFFSETFROM:+0000
TZOFFSETTO:+0100
TZNAME:BST
END:DAYLIGHT
END:VTIMEZONE
END:VCALENDAR