BEGIN:VCALENDAR
VERSION:2.0
PRODID:-//wp-events-plugin.com//7.2.3.1//EN
TZID:Europe/London
X-WR-TIMEZONE:Europe/London
BEGIN:VEVENT
UID:1724@anukampaproject.org
DTSTART;TZID=Europe/London:20230522T190000
DTEND;TZID=Europe/London:20230522T203000
DTSTAMP:20230403T162702Z
URL:https://anukampaproject.org/events/ajahn-brahmali-20230522/
SUMMARY:Two Buddhist Nuns & A Monk Discuss The Buddha's Views On Women &
 Gender
DESCRIPTION:&nbsp\;\n\nJoin Ajahn Brahmali\, Ven Canda and a guest
 Bhikkhuni for a thought-provoking debate on women\, gender &amp\; non-self.
 Hear from experts in the field as they explore and analyze the historical
 context and teachings of the Buddha on this important topic. Gain a deeper
 understanding of the role of women in Buddhism and learn about contemporary
 perspectives on gender and equality. This event promises to be an
 enlightening and stimulating discussion for anyone interested in Buddhism
 and gender studies. Don't miss out on the chance to engage in this
 important dialogue and expand your understanding of this fascinating
 topic!\n\n&nbsp\;\n\nPlease aim to arrive at 6.30 pm in order to register
 and settle in quietly.\n\n&nbsp\;\n\n&nbsp\;\n\nWe kindly ask that you do
 not contact the venue.\n\n&nbsp\;\n\n\n\n&nbsp\;\n\nNote:\n\n&nbsp\;\n\n1.
 After your registration\, you will receive an email with your
 Ticket/Booking Confirmation almost immediately. Please check your junk mail
 box if you do not receive it. You can also add our email address
 bookings@anukampaproject.org as a contact to prevent emails from us going
 into the junk folder.\n\n&nbsp\;\n\n2. If you do not receive your ticket
 within an hour\, please contact us at bookings@anukampaproject.org. Please
 be aware that emails that we send to non-Gmail\, Hotmail or Outlook email
 account outside the UK (e.g. .pl\; .gmx etc)\, are often rejected as
 'undelivered' for unknown reasons. Please therefore contact us from a
 Gmail\, Hotmail or Outlook email account where at all possible\, to save
 disappointment.\n\n&nbsp\;\n\n&nbsp\;\n\nPLEASE NOTE THIS BOOKING IS NOT
 REFUNDABLE.\n\n&nbsp\;\n\n&nbsp\;\n\n~ IMPORTANT !! ~  To be sure that you
 see our most up to date page\, YOU MUST REFRESH your browser by pressing F5
 OR click the ↺ reload sign on the address bar.\n\n&nbsp\;\n\n&nbsp\;\nAll
 proceeds go toward establishing the UK's first Forest Monastery for
 women.\n&nbsp\;
ATTACH;FMTTYPE=image/jpeg:https://anukampaproject.org/wp-content/uploads/2
 023/01/lwa_stage_wolfson__1600x700.jpg
CATEGORIES:2023
LOCATION:Leonard Wolfson Auditorium\, Wolfson College\, Linton Road\,
 Oxford\, OX2 6UD\, United Kingdom
GEO:51.77047915315714;-1.2550228803954724
X-APPLE-STRUCTURED-LOCATION;VALUE=URI;X-ADDRESS=Linton Road\, Oxford\, OX2
 6UD\, United Kingdom;X-APPLE-RADIUS=100;X-TITLE=Leonard Wolfson
 Auditorium\, Wolfson College:geo:51.77047915315714,-1.2550228803954724
END:VEVENT
BEGIN:VTIMEZONE
TZID:Europe/London
X-LIC-LOCATION:Europe/London
BEGIN:DAYLIGHT
DTSTART:20230326T020000
TZOFFSETFROM:+0000
TZOFFSETTO:+0100
TZNAME:BST
END:DAYLIGHT
END:VTIMEZONE
END:VCALENDAR