BEGIN:VCALENDAR
VERSION:2.0
PRODID:-//wp-events-plugin.com//7.2.3.1//EN
TZID:Europe/London
X-WR-TIMEZONE:Europe/London
BEGIN:VEVENT
UID:1723@anukampaproject.org
DTSTART;TZID=Europe/London:20230520T184500
DTEND;TZID=Europe/London:20230520T203000
DTSTAMP:20230326T110915Z
URL:https://anukampaproject.org/events/ajahn-brahmali-20230520/
SUMMARY:Ajahn Brahmali Dhamma Talk: “How To Love Like A Buddha”
DESCRIPTION:&nbsp\;\n\nThis evening programme will begin with a short
 guided meditation\, followed by a Dhamma talk by Ajahn Brahmali. After the
 talk there will be an opportunity to ask questions.\n\n&nbsp\;\n\nThe
 Buddha said that anyone who cultivates a mind of love for even as long as a
 fingersnap is on the right path. The cultivation of love\, also known as
 metta or loving-kindness\, is not only a path to healing our relationship
 to ourselves and others\, but also a path to the deepest states of
 meditation and awakening itself. Join us if you’re curious about learning
 how to love like a Buddha.\n\n&nbsp\;\n\nPlease aim to arrive at 6 pm in
 order to register and settle in quietly.\n\n&nbsp\;\n\nWe kindly ask that
 you do not contact the
 venue.\n\n&nbsp\;\n\n&nbsp\;\n\nNote:\n\n&nbsp\;\n\n1. After your
 registration\, you will receive an email with your Ticket/Booking
 Confirmation almost immediately. Please check your junk mail box if you do
 not receive it. You can also add our email address
 bookings@anukampaproject.org as a contact to prevent emails from us going
 into the junk folder.\n\n&nbsp\;\n\n2. If you do not receive your ticket
 within an hour\, please contact us at bookings@anukampaproject.org. We
 often have our emails to a non gmail/hotmail/outlook email account rejected
 as 'undelivered' for various reasons. If you use these
 non-gmail/hotmail/outlook email accounts please contact us from a
 gmail/hotmail/outlook email accounts
 instead.\n\n&nbsp\;\n\n&nbsp\;\n\nPLEASE NOTE THIS BOOKING IS NOT
 REFUNDABLE.\n\n&nbsp\;\n\n~ IMPORTANT !! ~  To be sure that you see our
 most up to date page\, YOU MUST REFRESH your browser by pressing F5 OR
 click the ↺ reload sign on the address bar.\n\n&nbsp\;\nAll proceeds go
 toward establishing the UK's first Forest Monastery for
 women.\n&nbsp\;\n\n&nbsp\;
ATTACH;FMTTYPE=image/jpeg:https://anukampaproject.org/wp-content/uploads/2
 023/01/Sheffield-Quakers.jpg
CATEGORIES:2023
LOCATION:Sheffield Quakers\, Quaker Meeting House\, 10 St James' Street\,
 Sheffield City Centre\, Sheffield\, S1 2EW\, United Kingdom
X-APPLE-STRUCTURED-LOCATION;VALUE=URI;X-ADDRESS=Quaker Meeting House\, 10
 St James' Street\, Sheffield City Centre\, Sheffield\, S1 2EW\, United
 Kingdom;X-APPLE-RADIUS=100;X-TITLE=Sheffield Quakers:geo:0,0
END:VEVENT
BEGIN:VTIMEZONE
TZID:Europe/London
X-LIC-LOCATION:Europe/London
BEGIN:DAYLIGHT
DTSTART:20230326T020000
TZOFFSETFROM:+0000
TZOFFSETTO:+0100
TZNAME:BST
END:DAYLIGHT
END:VTIMEZONE
END:VCALENDAR