BEGIN:VCALENDAR
VERSION:2.0
PRODID:-//wp-events-plugin.com//7.2.3.1//EN
TZID:Europe/London
X-WR-TIMEZONE:Europe/London
BEGIN:VEVENT
UID:1716@anukampaproject.org
DTSTART:20221113T080000Z
DTEND:20221120T203000Z
DTSTAMP:20240207T050938Z
URL:https://anukampaproject.org/events/ajahn-brahm-ven-canda-the-art-of-di
 sappearing-an-8-day-online-retreat/
SUMMARY:Ajahn Brahm & Ven Canda: “The Art Of Disappearing” ~ An 8-Day
 Online Retreat
DESCRIPTION:[caption id="attachment_4716" align="aligncenter" width="514"]
 Ajahn Brahm[/caption]\n\n&nbsp\;\n\nImportant Notice:\n\nThis retreat has
 changed to become an online Zoom retreat. Please read the information below
 carefully before booking your place!\n\n&nbsp\;\n\n&nbsp\;\n\n"Ajahn Brahm
 and Ven Canda create a really safe\, supportive and nurturing environment.
 It softens the heart. The teachings are wise and profound but delivered in
 a way that is funny\, sensitive and warm hearted. They lead by example in
 how to act through love\, acceptance and compassion. I am glad I have found
 such teachers."\n\n~ Patricia\, a participant in Ajahn Brahm &amp\; Ven
 Canda's "Bliss Upon Bliss" online retreat\, November 2020\n&nbsp\;\nAbout
 The Retreat\n&nbsp\;\n\nIn this retreat\, Ajahn Brahm will show us the way
 to reduce our expectations and follow the Buddha's path of understanding
 and non-clinging. Gradually\, as we turn away from the outside world\, and
 turn our attention inwardly to our present moment experiences\, our
 understanding grows\, and we can learn to let go of our desire for control.
 We learn how it feels to experience the great freedom of disappearing.
 Embodying everything he teaches and with an extraordinary ability to
 inspire\, Ajahn Brahm is the perfect person to guide us in the joyful art
 of disappearing!\n\n&nbsp\;\n\nVen Canda\, a close disciple of Ajahn
 Brahm\, will also be sharing her understanding of the Buddha's teachings\,
 based on her 27 years of Buddhist practice with her teachers in India\,
 Myanmar and of course\, Australia!\n\n&nbsp\;\n\nAs this is an online
 home-retreat\, you are free to choose whether you wish to observe the
 Eight Precepts or the Five
 Precepts.\n\n&nbsp\;\n\n&nbsp\;\n\n&nbsp\;\n\n&nbsp\;\n\n\n\n&nbsp\;\n\n&nb
 sp\;\nThe Ethical Precepts \n&nbsp\;\n\nVenerable Ānanda once asked the
 Buddha:\n\n“Venerable\, what is the purpose and benefit of skillful
 ethics (sila)?” The Buddha answered\, "So\, Ānanda\, the purpose and
 benefit of skillful ethics is not having regrets (avippati). The purpose
 and benefit of not having regrets is joy (pamojja). The purpose and benefit
 of joy is bliss (piti). The purpose and benefit of bliss is tranquillity
 (passaddhi). The purpose and benefit of tranquillity is happiness (sukha).
 The purpose and benefit of happiness is stillness (samadhi). The purpose
 and benefit of stillness is seeing things as they truly are. The purpose
 and benefit of seeing things as they truly are is revulsion (nibbida). The
 purpose and benefit of revulsion is dispassion or fading away (viraga). The
 purpose and benefit of dispassion is knowledge and vision of liberation
 (vimuttinyanadassana). So\, Ānanda\, skillful ethics progressively leads
 up to the highest.” (Anguttara Nikaya 11.1) \n\n&nbsp\;\n\nHere we can
 see how practicing ethical precepts creates a strong foundation for the
 development of deep meditation. We therefore strongly encourage you to take
 the precepts – and you may choose whether you wish to observe the five or
 the eight\, during the retreat.\n\n&nbsp\;\n\n\nThe Five Precepts –
 Pañcasīla\n\n 	\nI undertake the training-precept to abstain from killing
 living beings.\nPāṇātipātā veramaṇī sikkhāpadaṃ samādiyāmi.\n
 	\nI undertake the training-precept to abstain from taking what is not
 given.\nAdinnādānā veramaṇī sikkhāpadaṃ samādiyāmi.\n 	\nI
 undertake the training-precept to abstain from sexual misconduct.\nKāmesu
 micchācārā veramaṇī sikkhāpadaṃ samādiyāmi.\n 	\nI undertake the
 training-precept to abstain from false speech.\nMusāvādā veramaṇī
 sikkhāpadaṃ samādiyāmi.\n 	\nI undertake the training-precept to
 abstain from alcoholic drink or drugs that cloud the mind and cause
 heedlessness.\nSurā meraya majja pamādaṭṭhānā veramaṇī
 sikkhāpadaṃ samādiyāmi.\n\n&nbsp\;\n\n\nThe Eight Precepts –
 Aṭṭhaṅgasīla\n\n 	\nI undertake the training-precept to abstain from
 killing living beings.\nPāṇātipātā veramaṇī sikkhāpadaṃ
 samādiyāmi.\n 	\nI undertake the training-precept to abstain from taking
 what is not given.\nAdinnādānā veramaṇī sikkhāpadaṃ
 samādiyāmi.\n 	\nI undertake the training-precept to abstain from sexual
 conduct.\nAbrahmacariyā veramaṇī sikkhāpadaṃ samādiyāmi.\n 	\nI
 undertake the training-precept to abstain from false speech.\nMusāvādā
 veramaṇī sikkhāpadaṃ samādiyāmi.\n 	\nI undertake the
 training-precept to abstain from alcoholic drink or drugs that cloud the
 mind and cause heedlessness.\nSurā meraya majja pamādaṭṭhānā
 veramaṇī sikkhāpadaṃ samādiyāmi.\n 	\nI undertake the
 training-precept to abstain from eating at the wrong time (after solar
 noon).\nVikāla bhojanā veramaṇī sikkhāpadaṃ samādiyāmi.\n 	\nI
 undertake the training-precept to abstain from dancing\, singing\, music\,
 going to see entertainments\, wearing jewellery\, using perfumes\, and
 beautifying the body with cosmetics.\nNacca gīta vādita visūkadassanā
 mālā gandha vilepana dhārana maṇḍana vibhūsanaṭṭhānā
 veramaṇī sikkhāpadaṃ samādiyāmi.\n 	\nI undertake the
 training-precept to abstain from using high or luxurious beds and
 seats.\nUccāsayana mahāsayanā veramaṇī sikkhāpadaṃ
 samādiyāmi.\n\n&nbsp\;\n\n&nbsp\;\nTentative Retreat Schedule (16:00 on
 13th Nov ~ 11:00 on 20th Nov UK time)\n&nbsp\;\n\n&nbsp\;\n\nThe retreat
 starts at 16:00 on Sunday 13th November\, and finishes at 11:00 on Sunday
 20th November. On the last day\, there will be an opportunity to share your
 experience with other retreatants. The schedule is deliberately designed to
 be spacious and allow for plenty of personal practice time and rest\, so
 that you can take a break from the screen and find a supportive rhythm and
 pace. You will be guided as to how best to make use of your personal
 practice time and given instructions in walking
 meditation.\n\n&nbsp\;\n\nSun 13th November:\n16:15 - 17:00 Welcome and
 orientation with Ven Canda and co-hosts\n17:00 - 18:00 Short Dhamma talk
 and guided meditation with Ajahn Brahm\n19:30 - 20:30 Short Dhamma talk and
 Q&amp\;A with Ven Canda\n\n&nbsp\;\n\nMon 14th - Sat 19th November\n06:00 -
 07:00 Recommended morning meditation (!)\, offline\n08:00 - 10:00 Dhamma
 talk\, guided meditation (Ajahn Brahm)\n10:00 - 12:00 Cooking and lunchtime
 for those on 8 precepts offline\n12:00 - 15:00 Rest and personal practice
 offline\n15:00 - 15:45 Guided Meditation with (alternate days) Ajahn Brahm
 or Ven Canda\n16:00 - 17:00 Sutta teachings and discussion with (alternate
 days) Ajahn Brahm or Ven Canda\n17:00 - 19:00 Personal practice
 offline \n18:30 - 19:20 Metta chanting and silent group meditation\n19:30
 - 20:30 Q&amp\;A with Ajahn Brahm and/or Ven Canda\n\n&nbsp\;\n\nSun 20th
 November\n06:00 - 07:00 Recommended morning meditation (!)\,
 offline\n08:00 - 09:30 Guided meditation and closing talk (Ajahn
 Brahm)\n09:45 - 11:00 Small group meetings\, Q&amp\;A and final blessing
 (Ven Canda)\n\n&nbsp\;\n\nFull time attendance – including the personal
 practice period – is necessary for this retreat\, so you can experience
 the full potential of the practice. Due to the timing it will therefore
 work best for people in the UK and Europe (or the east coast of the US if
 you are willing to adopt forest monastery time and rise early!) Places are
 limited to 95\, so we kindly ask that if you only want to attend the
 teacher-led sessions\, to please watch them after we upload them to
 our YouTube channel.\n\n&nbsp\;\n\nCheck the retreat schedule against your
 time zone here.\n\n&nbsp\;\n\n&nbsp\;\nHow To Have A Home
 Retreat\n&nbsp\;\n\nPracticing on a home retreat can be a very rewarding
 experience. One of the most powerful ways in which it differs from watching
 online talks\, is that you carve out a space dedicated to silent practice
 with none of the usual distractions and disturbances. Essentially\, you
 take “time out” of ordinary life to delve deeply into your inner world.
 To support yourself in this process\, Noble Silence is encouraged
 throughout the retreat: to remain in silence as much as possible and to not
 use any electronic devices\, including mobile phones\, other than the one
 you would use for the online Zoom sessions (only!). To help you decide
 whether this would suit you\, we offer some thoughts about the benefits of
 home retreat and consider some of the potential challenges – as well as
 possible solutions – so you can make the best use of your
 time.\n\n&nbsp\;\n\n&nbsp\;\nBenefits:\n\n 	Continuity of practice which
 helps you get more benefit from meditation\n 	Safety\, intimacy and support
 of an enclosed group\n 	Opportunity for personal guidance through questions
 to the teachers\n 	Renewed confidence in your ability to practice wherever
 you are\n 	The food that suits your tummy and no one snoring in your
 dorm!\n\n&nbsp\;\nChallenges and solutions:\n&nbsp\;\n\nIf you are living
 alone\, you have the ideal hermitage! Turn off your phone\, put on the
 vacation responder and do your weekly shop in advance. Use ear plugs if it
 is especially noisy and take a walk at the quietest times of day. This will
 help you immensely in observing Noble Silence and cultivating sense
 restraint\, which inclines the mind toward inner happiness and facilitates
 quietening the mind.\n\n&nbsp\;\n\nFor most however\, home retreat may pose
 the challenge of living with others who are not on retreat! In this case\,
 you may need to put a few extra measures in place (if they will not join
 you!)\, to enable you to observe Noble Silence and maintain your inward
 focus. You might ask them to support you while you are on retreat by
 keeping interactions to an absolute minimum and having a note system for
 anything absolutely unavoidable. Perhaps there is a room in the house that
 you can retreat into and someone kind may cook your favourite food and
 leave your meals outside the door\, or negotiate times to use the kitchen
 alone! If you have children or teens it might be difficult to keep the
 noise down\, so\, if you are able\, you might even decide to book into a
 quiet hotel or apartment (COVID conditions allowing) and tune in to the
 sessions from there.\n\n&nbsp\;\n\n\n\n&nbsp\;\nRegistration
 Fees\n&nbsp\;\n\nThe retreat teachings are offered on a donation basis to
 make the Dhamma accessible to all. Our volunteers have generously organised
 this in their own free time and neither they nor the two teachers receive
 any remuneration. To honour the wisdom\, time and commitment of our
 teachers\, you will be invited to offer donations at the end of the
 retreat. Your donations will help us fundraise toward a “Forest
 Monastery\,” which will be the physical hub of our community and a haven
 of peace. Please give with a heart of generosity and joy\, whilst
 respecting your own personal financial situation.\n\n&nbsp\;\n\nThe
 registration fee ensures your commitment to attending the retreat\, as we
 generally experience a 25% no-show rate to online events. When this
 happens others may lose a potentially life changing opportunity to
 practice. The registration fee contributes towards our admin and
 other expenses. If you are unable to afford this\, please contact
 us. Alternatively\, you can listen to the teachings later on our YouTube
 channel.\n\n&nbsp\;\n\n&nbsp\;\n\nPlease note that the registration fee
 is NON REFUNDABLE.\n\n&nbsp\;\nApplication Procedure\n&nbsp\;\n\n1.
 *Please ensure you have read all the above information carefully before you
 fill the application form below!\n\n&nbsp\;\n\n2. After submitting your
 application form\, you should receive email confirming that we have
 received your application within a few minutes. Please check your junk mail
 inbox if you do not receive it. If it is not in your junk mail please
 contact us\; you might have submitted a wrong email address. We advise you
 to add our email address\, bookings@anukampaproject.org\, as a contact
 to prevent emails from us going into your junk folder.\n\n&nbsp\;\n\n3. We
 aim to approve your application within a day or two. Once your application
 is approved\, your registration fee is needed to secure your place. Upon
 receipt\, your ticket will be automatically sent to
 you.\n\n&nbsp\;\n\n&nbsp\;\nJoining from the same household\n&nbsp\;\n\nIf
 more than one person from the same household wishes to join the retreat\,
 please make separate bookings and log in from separate computers. This
 ensures our numbers are manageable for the Q&amp\;A sessions and enables
 you to practice as though alone.\n\n&nbsp\;\nPart-time
 participation\n&nbsp\;\n\nShould you only want to attend the teacher-led
 sessions rather than sit the whole retreat\, please watch them later on
 our YouTube channel\, as places are limited to 95. In this case\,
 please do not register for the
 retreat.\n\n&nbsp\;\n\n&nbsp\;\n\n&nbsp\;\n\n~ IMPORTANT !! ~ Before you
 fill in the application form YOU MUST REFRESH your browser by pressing F5
 or clicking the ↺ reload sign. This will update the form to show the
 current number of spaces available.\n\n&nbsp\;
ATTACH;FMTTYPE=image/jpeg:https://anukampaproject.org/wp-content/uploads/2
 020/10/20201013_040904.jpg
CATEGORIES:2022
END:VEVENT
END:VCALENDAR