BEGIN:VCALENDAR
VERSION:2.0
PRODID:-//wp-events-plugin.com//7.2.3.1//EN
TZID:Europe/London
X-WR-TIMEZONE:Europe/London
BEGIN:VEVENT
UID:108@anukampaproject.org
DTSTART:20221122T180000Z
DTEND:20221122T200000Z
DTSTAMP:20240222T145213Z
URL:https://anukampaproject.org/events/ajahn-brahm-2022-11-22/
SUMMARY:Ajahn Brahm Dhamma Talk: "The Buddha’s Great Rebellion"
DESCRIPTION:&nbsp\;\n\nThis evening programme will begin with a short
 guided meditation\, followed by a Dhamma talk from Ajahn Brahm. After the
 talk there will be an opportunity to ask questions.\n\n&nbsp\;\n\nWe kindly
 request that you wear a well-fitting mask in the venue\, as a way of caring
 for the health of the community and for the safety of the Teachers\, who
 are meeting hundreds of people during the teaching tour. Thank you for your
 care and cooperation.\n\n&nbsp\;\n\nPlease aim to arrive at least half an
 hour before the starting time in order to register and settle in
 quietly.\n\n[caption id="attachment_7772" align="alignnone" width="300"]
 The Old Library At Zellig\, Birmingham[/caption]\n\n&nbsp\;\n\nWe kindly
 ask that you do not contact the venue.\n\n&nbsp\;\n\nNote:\n\n&nbsp\;\n\n1.
 After your registration\, you will receive an email with your Ticket
 Reference number within a couple of minutes. Please check your junk mail
 box if you do not receive it. You can also add our email address
 bookings@anukampaproject.org as a contact to prevent emails from us going
 into the junk folder.\n\n&nbsp\;\n\n2. If you do not receive your ticket
 within an hour\, please contact us at bookings@anukampaproject.org. Please
 be aware that emails that we send to non-gmail\, hotmail or outlook email
 account outside the UK (e.g. .pl\; .gmx etc)\, are often rejected as
 'undelivered' for unknown reasons. Please therefore contact us from a
 gmail\, hotmail or outlook email account where at all possible\, to save
 disappointment.\n\n&nbsp\;\n\nPLEASE NOTE THIS BOOKING IS NOT
 REFUNDABLE.\n\n~ IMPORTANT !! ~  To be sure that you see our most up to
 date page\, YOU MUST REFRESH your browser by pressing F5 OR click the ↺
 reload sign on the address bar.\n\n&nbsp\;\n\n&nbsp\;\n\nOnline ticket
 purchase will be closed at 15:00. You can pay at the door if you want to
 join. We still have plenty of spaces.
ATTACH;FMTTYPE=image/jpeg:https://anukampaproject.org/wp-content/uploads/2
 022/04/Zelligsign.jpg
CATEGORIES:2022
LOCATION:The Old Library At Zellig\, Gibb Square. Gibb Street\, Digbeth\,
 Deritend\, Birmingham\, B9 4AA\, United Kingdom
X-APPLE-STRUCTURED-LOCATION;VALUE=URI;X-ADDRESS=Gibb Square. Gibb Street\,
 Digbeth\, Deritend\, Birmingham\, B9 4AA\, United
 Kingdom;X-APPLE-RADIUS=100;X-TITLE=The Old Library At Zellig:geo:0,0
END:VEVENT
END:VCALENDAR