BEGIN:VCALENDAR
VERSION:2.0
PRODID:-//wp-events-plugin.com//7.2.3.1//EN
TZID:Europe/London
X-WR-TIMEZONE:Europe/London
BEGIN:VEVENT
UID:105@anukampaproject.org
DTSTART;TZID=Europe/London:20221120T184000
DTEND;TZID=Europe/London:20221120T203000
DTSTAMP:20221129T094021Z
URL:https://anukampaproject.org/events/ajahn-brahm-2022-11-20/
SUMMARY:Ajahn Brahm Dhamma Talk: “Living & Letting Go”
DESCRIPTION:&nbsp\;\n\nThis evening programme will begin with half an
 hours' guided meditation\, followed by a Dhamma talk by Ajahn Brahm. After
 the talk there will be an opportunity to ask questions.\n\n&nbsp\;\n\nWe
 kindly request that you wear a well-fitting mask in the venue\, as a way of
 caring for the health of the community and for the safety of the Teachers\,
 who are meeting hundreds of people during the teaching tour. Thank you for
 your care and cooperation.\n\n&nbsp\;\n\nPlease aim to arrive at 6 pm in
 order to register and settle in quietly.\n\n&nbsp\;\n\nWe kindly ask that
 you do not contact the venue.\n\n[caption id="attachment_3981"
 align="alignnone" width="300"] Kagyu Samye Dzong\,
 London[/caption]\n\n&nbsp\;\n\nNote:\n\n&nbsp\;\n\n1. After your
 registration\, you will receive an email with your Ticket Reference number
 within a couple of minutes. Please check your junk mail box if you do not
 receive it. You can also add our email address bookings@anukampaproject.org
 as a contact to prevent emails from us going into the junk
 folder.\n\n&nbsp\;\n\n2. If you do not receive your ticket within an hour\,
 please email us. We often have our emails to a non gmail/hotmail/outlook
 email account rejected as 'undelivered' for various reasons. If you use
 these non-gmail/hotmail/outlook email accounts and had contacted us and yet
 still didn't receive any reply from us regarding your missing ticket\,
 please contact us from a gmail/hotmail/outlook email accounts
 instead.\n\n&nbsp\;\n\nPLEASE NOTE THIS BOOKING IS NOT
 REFUNDABLE.\n\n&nbsp\;\n\n~ IMPORTANT !! ~  To be sure that you see our
 most up to date page\, YOU MUST REFRESH your browser by pressing F5 OR
 click the ↺ reload sign on the address bar.\n\n&nbsp\;
ATTACH;FMTTYPE=image/jpeg:https://anukampaproject.org/wp-content/uploads/2
 019/03/resizedimage398264-1304-AkongOpening-389.jpg
CATEGORIES:2022
LOCATION:\, \, 
GEO:51.495682;-0.074503
X-APPLE-STRUCTURED-LOCATION;VALUE=URI;X-ADDRESS=\,
 ;X-APPLE-RADIUS=100;X-TITLE=:geo:51.495682,-0.074503
END:VEVENT
BEGIN:VTIMEZONE
TZID:Europe/London
X-LIC-LOCATION:Europe/London
BEGIN:STANDARD
DTSTART:20221030T010000
TZOFFSETFROM:+0100
TZOFFSETTO:+0000
TZNAME:GMT
END:STANDARD
END:VTIMEZONE
END:VCALENDAR