BEGIN:VCALENDAR
VERSION:2.0
PRODID:-//wp-events-plugin.com//7.2.3.1//EN
TZID:Europe/London
X-WR-TIMEZONE:Europe/London
BEGIN:VEVENT
UID:88@anukampaproject.org
DTSTART:20191028T210000Z
DTEND:20191030T053000Z
DTSTAMP:20250429T130541Z
URL:https://anukampaproject.org/events/ab191028kairosnr/
SUMMARY:Ajahn Brahm's Kairos Three-Day Non-Residential Retreat: “How To
 Let Go Without Pushing Away”
DESCRIPTION:Kairos Centre is a Christian nuns’ monastery\, with an
 atmosphere naturally conducive to deep inner reflection and peace\, and
 encourages visitors to hold the space as guests with quiet respect. Set in
 this very special\, spiritual place overlooking Richmond Park\, this
 retreat provides a wonderful opportunity to cultivate a still and happy
 heart\, guided by self-proclaimed 'meditation junkie' Ajahn
 Brahm.\n\n&nbsp\;\n\nThe retreat consists of silent meditation practice\,
 Dhamma talks\, guided meditations\, Sutta classes\, using "The Word of The
 Buddha\," and Q&amp\;A sessions. The schedule will be relaxed and flexible
 and you will have use of the main hall\, lounge and grounds\, as well as
 the beautiful small chapel within the building for extra
 solitude.\n\n&nbsp\;\n\nNon-residential retreat tickets are aimed at those
 who have or are able to find their own accommodation in and around London.
 Unfortunately we are not able to recommend any accommodation near Kairos
 Centre. Non-residential guests are asked to bring their own simple packed
 lunches (sandwiches are good!) as the centre cannot cater for large
 numbers. Hot drinks served three times a day are included in the
 ticket. \n\n&nbsp\;\n\n&nbsp\;\n\nThe retreat begins at 9.00am on Monday
 28th October\, 2019. On the first two days of the retreat\, non-residential
 guests are welcome to stay until after the evening talk at around 9.30pm\,
 or to quietly leave before then at their convenience. The retreat ends for
 everyone on Wednesday 30th October at 5.30pm.\n\n&nbsp\;\n\nTENTATIVE
 SCHEDULE\n\n&nbsp\;\n\nMonday 28th &amp\; Tuesday 29th
 October:\n\n&nbsp\;\n\n9am: Arrival and Welcome Tea\n9:30am-12:30pm:
 Meditation and Guidance\n12:30pm-1:30pm: Lunch break (non-residents are to
 bring their own lunch)\n1:30pm-3:30pm: Meditation and Guidance\n3:30pm-4pm:
 Tea break\n4pm-5pm: Word of the Buddha Class\n5pm-6pm: Own
 Meditation\n6pm-7pm: Tea break (bring snacks if needed)\n7pm-8pm: Group
 Meditation\n8.15pm-9.30pm: Question and Answer
 Session.\n\n&nbsp\;\n\n&nbsp\;\n\nWednesday 30th
 October:\n\n&nbsp\;\n\n9am: Arrival and Welcome Tea\n9.30am-12.30pm:
 Meditation and Guidance\n12.30pm-1.30pm: Lunch break (non-residents are to
 bring their own lunch)\n1.30pm-2pm: Group Meditation\n2pm-3pm: Word of the
 Buddha Class\n3pm-3:30pm: Tea break\n3:30pm-4:30pm: Closing Talk and Metta
 Meditation\n4:30pm-5pm: Discussion on Anukampa Bhikkhuni
 Project\n5pm-5:30pm: Tea and Closing\n\n&nbsp\;\n\nThe cost of this
 Non-Residential Retreat is £150.\n\n&nbsp\;\n\n&nbsp\;\n\nThe payment is
 refundable minus £75 BEFORE 1st August 2019.\n\n&nbsp\;\n\nPlease note
 that FROM 1st August no refund will be given\, unless someone on our
 waiting list is able to take your place. If your ticket can be taken by
 someone else\, you will be refunded minus £75.  Whilst we will make every
 effort to offer your ticket on\, we are sorry that this cannot be
 guaranteed.\n\n&nbsp\;\n\nOrganisation is on a volunteer basis which keeps
 costs low. Ajahn Brahm is kindly coming all the way from Australia to
 England to help us establish a monastery and there will be opportunity to
 donate towards that aim at the end of the retreat.\n\n&nbsp\;\n\nIf you
 would like to contribute to sponsoring accommodation for Ajahn Brahm and
 Ven Canda\, please donate here\, reference: 'monastic
 costs.'\n\n&nbsp\;\n\nWe may be able to offer some financial assistance to
 those of limited means through our bursary fund\, collected entirely
 through the generosity of others.\n\n&nbsp\;\n\nYou are welcome to donate
 to our bursary fund here.\n\n&nbsp\;\n\n&nbsp\;\n\nWe kindly ask that you
 do not contact the venue.\n\n&nbsp\;\n\nNote:\n\n&nbsp\;\n\n1. After
 payment\, you will receive an email with your Ticket/Booking Confirmation
 almost immediately. Please check your junk mail box if you do not receive
 it. You can also add our email address bookings@anukampaproject.org as a
 contact to prevent emails from us going into the junk
 folder.\n\n&nbsp\;\n\n2. If you do not receive your ticket within an hour\,
 please email us.\n\n&nbsp\;\n\n&nbsp\;\n**If you are on the waiting list\,
 please check your email often or set up a notification on your smartphone
 to be notified immediately if there is an email from us so you can act
 quickly if there is a space coming up**\n&nbsp\;
ATTACH;FMTTYPE=image/jpeg:https://anukampaproject.org/wp-content/uploads/2
 019/02/Kairos-Slider-1.jpg
CATEGORIES:2019 Tour
LOCATION:Kairos Centre\, Mount Angelus Road\, London\, SW15 4JA\, United
 Kingdom
GEO:51.4504005;-0.24677729999996245
X-APPLE-STRUCTURED-LOCATION;VALUE=URI;X-ADDRESS=Mount Angelus Road\,
 London\, SW15 4JA\, United Kingdom;X-APPLE-RADIUS=100;X-TITLE=Kairos
 Centre:geo:51.4504005,-0.24677729999996245
END:VEVENT
END:VCALENDAR